BEGIN:VCALENDAR
VERSION:2.0
PRODID:-//Mid Wharfedale Parish Council//Meeting Calendar//EN
CALSCALE:GREGORIAN
METHOD:PUBLISH
BEGIN:VEVENT
UID:70806-20260514@midwharfedaleparish.gov.uk
DTSTAMP:20260423T103805Z
DTSTART;VALUE=DATE:20260514
DTEND;VALUE=DATE:20260515
SUMMARY:Mid Wharfedale Parish Council Annual and Ordinary Meeting &#8211\\; 14th May 2026
DESCRIPTION:Annual Parish Meeting\nView details: https://midwharfedaleparish.gov.uk/meetings/mid-wharfedale-parish-council-annual-and-ordinary-meeting-14th-may-2026/
URL:https://midwharfedaleparish.gov.uk/meetings/mid-wharfedale-parish-council-annual-and-ordinary-meeting-14th-may-2026/
END:VEVENT
END:VCALENDAR
