BEGIN:VCALENDAR
VERSION:2.0
PRODID:-//Mid Wharfedale Parish Council//Meeting Calendar//EN
CALSCALE:GREGORIAN
METHOD:PUBLISH
BEGIN:VEVENT
UID:70721-20251113@midwharfedaleparish.gov.uk
DTSTAMP:20260423T115341Z
DTSTART;VALUE=DATE:20251113
DTEND;VALUE=DATE:20251114
SUMMARY:Council Meeting &#8211\\; 13 November 2025
DESCRIPTION:Full Council Meeting\nView details: https://midwharfedaleparish.gov.uk/meetings/council-meeting-13-november-2025/
URL:https://midwharfedaleparish.gov.uk/meetings/council-meeting-13-november-2025/
END:VEVENT
END:VCALENDAR
